BEGIN:VCALENDAR
VERSION:2.0
PRODID:-//Wandern in Berlin und Potsdam - ECPv4.9.10//NONSGML v1.0//EN
CALSCALE:GREGORIAN
METHOD:PUBLISH
X-WR-CALNAME:Wandern in Berlin und Potsdam
X-ORIGINAL-URL:https://www.genusswanderungen.de
X-WR-CALDESC:Veranstaltungen im Wandern in Berlin und Potsdam
BEGIN:VTIMEZONE
TZID:Europe/Helsinki
BEGIN:DAYLIGHT
TZOFFSETFROM:+0200
TZOFFSETTO:+0300
TZNAME:EEST
DTSTART:20170326T010000
END:DAYLIGHT
BEGIN:STANDARD
TZOFFSETFROM:+0300
TZOFFSETTO:+0200
TZNAME:EET
DTSTART:20171029T010000
END:STANDARD
END:VTIMEZONE
BEGIN:VEVENT
DTSTART;TZID=Europe/Helsinki:20170409T110000
DTEND;TZID=Europe/Helsinki:20170409T170000
DTSTAMP:20260424T125851
CREATED:20170214T141111Z
LAST-MODIFIED:20170214T170532Z
UID:2324-1491735600-1491757200@www.genusswanderungen.de
SUMMARY:Monatswanderung April - Höhenluft schnuppern
DESCRIPTION:Oben auf den Bergen gibt es einiges zu entdecken. Wir unternehmen eine kleine Bergwanderung\, genießen Ruhe\, Frühlingserwachen und die überwältigenden Ausblicke über Berlin und Potsdam. \n \n\nTermin: 09.April 2017\nStart: 11.00 Uhr\, Glienicker Brücke\, Berliner Seite (Steinbank)\nRundwanderung ca.12 km (u.a. Böttcherberg\, Tannenberge\, Nikolskoe)\nRucksackverpflegung\nKosten: die Wanderung ist kostenlos\n\n
URL:https://www.genusswanderungen.de/event/monatswanderung-april-hoehenluft-schnuppern/
LOCATION:Glienicker Brücke\, Potsdam
CATEGORIES:Monatswanderung,Wanderung
ORGANIZER;CN="Wanderkonzepte":MAILTO:info@wanderkonzepte.de
END:VEVENT
END:VCALENDAR