BEGIN:VCALENDAR
VERSION:2.0
PRODID:-//Wandern in Berlin und Potsdam - ECPv4.9.10//NONSGML v1.0//EN
CALSCALE:GREGORIAN
METHOD:PUBLISH
X-WR-CALNAME:Wandern in Berlin und Potsdam
X-ORIGINAL-URL:https://www.genusswanderungen.de
X-WR-CALDESC:Veranstaltungen im Wandern in Berlin und Potsdam
BEGIN:VTIMEZONE
TZID:Europe/Helsinki
BEGIN:DAYLIGHT
TZOFFSETFROM:+0200
TZOFFSETTO:+0300
TZNAME:EEST
DTSTART:20160327T010000
END:DAYLIGHT
BEGIN:STANDARD
TZOFFSETFROM:+0300
TZOFFSETTO:+0200
TZNAME:EET
DTSTART:20161030T010000
END:STANDARD
END:VTIMEZONE
BEGIN:VEVENT
DTSTART;TZID=Europe/Helsinki:20160911T110000
DTEND;TZID=Europe/Helsinki:20160911T180000
DTSTAMP:20260421T122955
CREATED:20160717T103500Z
LAST-MODIFIED:20160827T195402Z
UID:1638-1473591600-1473616800@www.genusswanderungen.de
SUMMARY:Monatswanderung September – Mit Schweizern \, Preußen und dem Teufel im Bunde
DESCRIPTION:Wanderung in Potsdam durch das Katharinenholz nach Nattwerder \nWir begeben uns auf eine geschichtsträchtige und mystische Entdeckungstour durch Potsdams Norden. \nWir unternehmen einen  Abstecher in die preußische Militärgeschichte\, besuchen einen Ort mit Schweizer Wurzeln\, erforschen die Geheimnisse der Düsteren Teiche und erfahren\, wo Loriots Vorfahren lebten und wie der Teufel übers Wasser kommt. \n\nStart: 11.00 Uhr\, Potsdam Tramhaltestelle Kirschallee (Endhaltestelle)\nKategorie: mittelschwere Wanderung\nStrecke: ca.18 km Rundwanderung auf gut begehbaren Wegen\nVerpflegung: Rucksackverpflegung\nZiel: ca. 17.00 Uhr Tramhaltestelle Kirschallee\nSonstiges: Je nach Witterung können im Wald und am Wasser Mücken lauern. Bei empfindlichen Personen bitte an Schutz denken.\nWanderführung: Sascha Zingler und Bianka Miltz\, Wanderkonzepte (Mitglieder im SGV\, Sauerländischer Gebirgsverein)\ndie Wanderung ist kostenlos\n\n \nFür die Planung bitten wir um Anmeldung per email an kontakt@genusswanderungen.de\, über unser Kontaktformular (mit Betreff Bienenwanderung) oder über die Veranstaltungsseite auf Facebook. \n
URL:https://www.genusswanderungen.de/event/monatswanderung-durch-das-katharinenholz-nach-nattwerder/
LOCATION:Potsdam Haltestelle Kirschallee\, Haltestelle Kirschallee\, Potsdam
CATEGORIES:Monatswanderung,Wanderung
ATTACH;FMTTYPE=image/jpeg:https://www.genusswanderungen.de/wp-content/uploads/2016/07/20140821_112134-e1468750807307.jpg
ORGANIZER;CN="Wanderkonzepte":MAILTO:info@wanderkonzepte.de
END:VEVENT
END:VCALENDAR