BEGIN:VCALENDAR
VERSION:2.0
PRODID:-//Wandern in Berlin und Potsdam - ECPv4.9.10//NONSGML v1.0//EN
CALSCALE:GREGORIAN
METHOD:PUBLISH
X-WR-CALNAME:Wandern in Berlin und Potsdam
X-ORIGINAL-URL:https://www.genusswanderungen.de
X-WR-CALDESC:Veranstaltungen im Wandern in Berlin und Potsdam
BEGIN:VTIMEZONE
TZID:Europe/Helsinki
BEGIN:DAYLIGHT
TZOFFSETFROM:+0200
TZOFFSETTO:+0300
TZNAME:EEST
DTSTART:20180325T010000
END:DAYLIGHT
BEGIN:STANDARD
TZOFFSETFROM:+0300
TZOFFSETTO:+0200
TZNAME:EET
DTSTART:20181028T010000
END:STANDARD
END:VTIMEZONE
BEGIN:VEVENT
DTSTART;VALUE=DATE:20181020
DTEND;VALUE=DATE:20181021
DTSTAMP:20260424T091227
CREATED:20180903T090652Z
LAST-MODIFIED:20180903T090652Z
UID:3478-1539993600-1540079999@www.genusswanderungen.de
SUMMARY:Monatswanderung Oktober - Besuch bei den Königen der Lüfte
DESCRIPTION:Wir wandern durch die Ravensberge in Potsdam vorbei an Engelsquelle und Teufelssee. Erklimmen den höchsten Punkt der Stadt und lassen uns danach auf dem Falkenhof bei einer Flugshow in die faszinierende Welt der Greifvögel entführen. \n\nTermin: Samstag\, 20.10.2018\, 11.00 Uhr\nTreffpunkt: Bahnhof Potsdam-Rehbrücke\, an der Litfaßsäule auf Potsdamer Seite\nStrecke: mittelschwere Rundwanderung\, ca. 10 km\, naturbelassene Wege\nVerpflegung: Rucksackverpflegung\n\ndie Wanderung ist kostenlos\, der Eintritt auf dem Falkenhof (inkl. Flugshow 7€) ist selbst zu entrichten \nAchtung! Hunde sind auf dem Falkenhof nicht erlaubt. \nAnmeldung bitte >>hier \n
URL:https://www.genusswanderungen.de/event/monatswanderung-oktober-besuch-bei-den-koenigen-der-luefte/
LOCATION:Potsdam\, Rehbrücke Bhf\, Rehbrücke\, Haltestelle\, Potsdam\, Brandenburg\, Deutschland
CATEGORIES:Monatswanderung,Wanderung
ATTACH;FMTTYPE=image/jpeg:https://www.genusswanderungen.de/wp-content/uploads/2018/09/IMG_1034-e1535965500766.jpg
ORGANIZER;CN="Wanderkonzepte":MAILTO:info@wanderkonzepte.de
END:VEVENT
END:VCALENDAR