BEGIN:VCALENDAR
VERSION:2.0
PRODID:-//Wandern in Berlin und Potsdam - ECPv4.9.10//NONSGML v1.0//EN
CALSCALE:GREGORIAN
METHOD:PUBLISH
X-WR-CALNAME:Wandern in Berlin und Potsdam
X-ORIGINAL-URL:https://www.genusswanderungen.de
X-WR-CALDESC:Veranstaltungen im Wandern in Berlin und Potsdam
BEGIN:VTIMEZONE
TZID:Europe/Helsinki
BEGIN:DAYLIGHT
TZOFFSETFROM:+0200
TZOFFSETTO:+0300
TZNAME:EEST
DTSTART:20160327T010000
END:DAYLIGHT
BEGIN:STANDARD
TZOFFSETFROM:+0300
TZOFFSETTO:+0200
TZNAME:EET
DTSTART:20161030T010000
END:STANDARD
END:VTIMEZONE
BEGIN:VEVENT
DTSTART;TZID=Europe/Helsinki:20160807T110000
DTEND;TZID=Europe/Helsinki:20160807T160000
DTSTAMP:20260421T140334
CREATED:20160716T171923Z
LAST-MODIFIED:20160717T133018Z
UID:1632-1470567600-1470585600@www.genusswanderungen.de
SUMMARY:Monatswanderung August – Über  die  Altlasten von Berlin
DESCRIPTION:Erklimmt mit uns die rekultivierte ehemalige Mülldeponie Wannsee\, wandert mit uns in die Tannenberge und über den Hirschberg in Berlin. \nErlebt eine Landschaft im Entstehen und genießt den einzigartigen Rundblick über Berlin und Potsdam. \n\nStart: 11.00 Uhr\, Potsdam Glienicker Brücke\, Berliner Seite\nKategorie: geführte Wanderung für Jedermann (nicht für Kinderwagen geeignet)\nStrecke: ca.10 km Rundwanderung\, gut begehbare Wege\nVerpflegung: Rucksackverpflegung\, unterwegs ist eine Einkehr in Wannsee möglich\nZiel: 15.00-16.00 Uhr Glienicker Brücke Potsdam\nSonstiges: Je nach Witterung können im Wald und am Wasser Mücken lauern. Bei empfindlichen Personen bitte an Schutz denken.\nWanderführung: Sascha Zingler und Bianka Miltz\, Wanderkonzepte\ndie Wanderung ist kostenlos\n\n \nFür die Planung bitten wir um Anmeldung per email an kontakt@genusswanderungen.de\, über unser Kontaktformular (mit Betreff Bienenwanderung) oder über die Veranstaltungsseite auf Facebook. \n
URL:https://www.genusswanderungen.de/event/monatswanderung-ueber-die-ehemalige-deponie-wannsee/
LOCATION:Tannenberge\, Berlin\, 14109
CATEGORIES:Monatswanderung,Wanderung
ATTACH;FMTTYPE=image/jpeg:https://www.genusswanderungen.de/wp-content/uploads/2016/07/20160521_160736-e1468690795369.jpg
ORGANIZER;CN="Wanderkonzepte":MAILTO:info@wanderkonzepte.de
END:VEVENT
END:VCALENDAR