BEGIN:VCALENDAR
VERSION:2.0
PRODID:-//Wandern in Berlin und Potsdam - ECPv4.9.10//NONSGML v1.0//EN
CALSCALE:GREGORIAN
METHOD:PUBLISH
X-WR-CALNAME:Wandern in Berlin und Potsdam
X-ORIGINAL-URL:https://www.genusswanderungen.de
X-WR-CALDESC:Veranstaltungen im Wandern in Berlin und Potsdam
BEGIN:VTIMEZONE
TZID:Europe/Helsinki
BEGIN:DAYLIGHT
TZOFFSETFROM:+0200
TZOFFSETTO:+0300
TZNAME:EEST
DTSTART:20170326T010000
END:DAYLIGHT
BEGIN:STANDARD
TZOFFSETFROM:+0300
TZOFFSETTO:+0200
TZNAME:EET
DTSTART:20171029T010000
END:STANDARD
END:VTIMEZONE
BEGIN:VEVENT
DTSTART;TZID=Europe/Helsinki:20170325T180000
DTEND;TZID=Europe/Helsinki:20170325T200000
DTSTAMP:20260419T193500
CREATED:20170216T191651Z
LAST-MODIFIED:20170323T101012Z
UID:2334-1490464800-1490472000@www.genusswanderungen.de
SUMMARY:Öffentliche Lesung - "Mit Pfand durchs Land"
DESCRIPTION:Lesung und Gespräch über unsere Langstreckenwanderung durch Deutschlands Osten\nUnser Wanderfreund Torben Andresen vom Wandervideoblog liest aus unserem kürzlich erschienenen Buch “Mit Pfand durchs Land”. Er wird den Abend moderieren.\nLasst euch mitnehmen auf unsere abenteuerliche Reise und kommt mit uns ins Gespräch. Untermalt wird der Abend von vielen bisher unveröffentlichten Fotos der Tour und kleinen Überraschungen vom Lakritzemann. \nDa die Plätze begrenzt sind\, vergesst nicht\, euch rechtzeitig verbindlich mit Personenanzahl >hier oder per Email unter kontakt@genusswanderungen.de anzumelden. \nWer möchte kann bei der Lesung ein Buch erwerben und handsigniert mit nach Hause nehmen. \n \n
URL:https://www.genusswanderungen.de/event/oeffentliche-lesung-mit-pfand-durchs-land/
LOCATION:Potsdamer Lakritzkontor\, Jägerstraße 20\, Potsdam\, Brandenburg\, 14467\, Deutschland
CATEGORIES:Event,Lesung
ORGANIZER;CN="Wanderkonzepte":MAILTO:info@wanderkonzepte.de
END:VEVENT
END:VCALENDAR