BEGIN:VCALENDAR
VERSION:2.0
PRODID:-//Wandern in Berlin und Potsdam - ECPv4.9.10//NONSGML v1.0//EN
CALSCALE:GREGORIAN
METHOD:PUBLISH
X-WR-CALNAME:Wandern in Berlin und Potsdam
X-ORIGINAL-URL:https://www.genusswanderungen.de
X-WR-CALDESC:Veranstaltungen im Wandern in Berlin und Potsdam
BEGIN:VTIMEZONE
TZID:Europe/Helsinki
BEGIN:DAYLIGHT
TZOFFSETFROM:+0200
TZOFFSETTO:+0300
TZNAME:EEST
DTSTART:20180325T010000
END:DAYLIGHT
BEGIN:STANDARD
TZOFFSETFROM:+0300
TZOFFSETTO:+0200
TZNAME:EET
DTSTART:20181028T010000
END:STANDARD
END:VTIMEZONE
BEGIN:VEVENT
DTSTART;TZID=Europe/Helsinki:20180514T190000
DTEND;TZID=Europe/Helsinki:20180514T220000
DTSTAMP:20260422T122217
CREATED:20180323T110326Z
LAST-MODIFIED:20180323T111545Z
UID:3315-1526324400-1526335200@www.genusswanderungen.de
SUMMARY:Tag des Wanderns 2018 - Sonnenuntergangswanderung
DESCRIPTION:In diesem Jahr fällt der Tag des Wanderns auf einen Montag. Damit auch die arbeitende Bevölkerung unter euch an diesem Tag in den Genuss eines Wandererlebnisses kommt\, legen wir die Startzeit in die Abendstunden und wandern in den Sonnenuntergang hinein.\nWir durchwandern das grüne Golmer Luch. Auf dem Reiherberg mit seinem wunderbar weitem Blick in die Landschaft werden wir uns zu einem gemütlichen Picknick niederlassen. Gemeinsam genießen wir den Tagesausklang. \n  \n\nTermin: 14.Mai 2018\nStart: 19.00 Uhr\, Bahnhof Golm\, Ende ca. 22.00 Uhr\nStrecke: Rundwanderung ca.8 km\nVerpflegung: Rucksackverpflegung\, jeder bringt sich [und den Wanderführern 😉 ] etwas zum Picknick mit. Bitte auch an eine Sitzunterlage denken!\ndie Wanderung ist kostenlos\nAnmeldung erbeten > hier\n\n
URL:https://www.genusswanderungen.de/event/tag-des-wanderns-sonnenuntergangswanderung/
LOCATION:Bahnhof Potsdam-Golm\, Karl-Liebknecht-Straße 28\, Potsdam-Golm\, Brandenburg\, 14476 \, Deutschland
CATEGORIES:Tag des Wanderns,Wanderung
ATTACH;FMTTYPE=image/jpeg:https://www.genusswanderungen.de/wp-content/uploads/2017/06/20170610_144124-e1497263875114.jpg
ORGANIZER;CN="Wanderkonzepte":MAILTO:info@wanderkonzepte.de
END:VEVENT
END:VCALENDAR