BEGIN:VCALENDAR
VERSION:2.0
PRODID:-//Wandern in Berlin und Potsdam - ECPv4.9.10//NONSGML v1.0//EN
CALSCALE:GREGORIAN
METHOD:PUBLISH
X-WR-CALNAME:Wandern in Berlin und Potsdam
X-ORIGINAL-URL:https://www.genusswanderungen.de
X-WR-CALDESC:Veranstaltungen im Wandern in Berlin und Potsdam
BEGIN:VTIMEZONE
TZID:Europe/Helsinki
BEGIN:DAYLIGHT
TZOFFSETFROM:+0200
TZOFFSETTO:+0300
TZNAME:EEST
DTSTART:20180325T010000
END:DAYLIGHT
BEGIN:STANDARD
TZOFFSETFROM:+0300
TZOFFSETTO:+0200
TZNAME:EET
DTSTART:20181028T010000
END:STANDARD
END:VTIMEZONE
BEGIN:VEVENT
DTSTART;VALUE=DATE:20180121
DTEND;VALUE=DATE:20180122
DTSTAMP:20260419T133130
CREATED:20171221T170140Z
LAST-MODIFIED:20171221T170140Z
UID:3143-1516492800-1516579199@www.genusswanderungen.de
SUMMARY:Verborgenes zwischen Burgen und Schlössern
DESCRIPTION:Erlebt mit uns die großartige Gartenarchitektur des 19. Jahrhunderts und taucht ein in die winterliche Kulturlandschaft Potsdams. Gemeinsam begeben wir uns auf einen Streifzug durch die preußische Geschichte und erkunden weniger bekannte Orte zwischen den berühmten Sehenswürdigkeiten. \nTermin: Sonntag\, 21. Januar 2018\nStart: 11.00 Uhr\, Hauptbahnhof Potsdam\, Ausgang Nord\, Babelsberger Straße\nStrecke: Rundwanderung ca.15 km\, Ausstieg nach ca. 7 km an der Glienicker Brücke möglich\nVerpflegung: Rucksackverpflegung\, Einkehr je nach Teilnehmerzahl evtl. unterwegs möglich\nKosten: 10 €/ Person \nAnmeldung bitte >>hier \nStationen u.a.:\n• Park Babelsberg\n• Klein Glienicke\n• Glienicker Brücke\n• Böttcherberg\n• Neuer Garten\n• Pfingstberg\n• Freundschaftsinsel \n
URL:https://www.genusswanderungen.de/event/verborgenes-zwischen-burgen-und-schloessern-3/
LOCATION:Potsdam Hauptbahnhof\, Friedrich-Engels-Str. 99\, Potsdam\, Brandenburg\, 14473\, Deutschland
CATEGORIES:Wanderung
ATTACH;FMTTYPE=image/jpeg:https://www.genusswanderungen.de/wp-content/uploads/2017/12/20170115_110807-e1513875314117.jpg
ORGANIZER;CN="Wanderkonzepte":MAILTO:info@wanderkonzepte.de
END:VEVENT
END:VCALENDAR