BEGIN:VCALENDAR
VERSION:2.0
PRODID:-//Wandern in Berlin und Potsdam - ECPv4.9.10//NONSGML v1.0//EN
CALSCALE:GREGORIAN
METHOD:PUBLISH
X-WR-CALNAME:Wandern in Berlin und Potsdam
X-ORIGINAL-URL:https://www.genusswanderungen.de
X-WR-CALDESC:Veranstaltungen im Wandern in Berlin und Potsdam
BEGIN:VTIMEZONE
TZID:Europe/Helsinki
BEGIN:DAYLIGHT
TZOFFSETFROM:+0200
TZOFFSETTO:+0300
TZNAME:EEST
DTSTART:20160327T010000
END:DAYLIGHT
BEGIN:STANDARD
TZOFFSETFROM:+0300
TZOFFSETTO:+0200
TZNAME:EET
DTSTART:20161030T010000
END:STANDARD
END:VTIMEZONE
BEGIN:VEVENT
DTSTART;TZID=Europe/Helsinki:20160514T110000
DTEND;TZID=Europe/Helsinki:20160514T133000
DTSTAMP:20260424T111623
CREATED:20160503T125607Z
LAST-MODIFIED:20160512T181755Z
UID:1194-1463223600-1463232600@www.genusswanderungen.de
SUMMARY:Wanderung am Wannsee in Berlin
DESCRIPTION:Zum Tag des Wanderns\, am 14.05.2016\, bietet die SGV Berlin eine geführte Wanderung für die Region Berlin/ Potsdam an. \nThematik: Natur\, Heimat\, Wanderung \nTreffpunkt:\nS-Bahnhof Wannsee (Vorplatz) um 11:00 Uhr \nUhrzeit:\n11.00 Uhr -13.30 Uhr \nBesonderheiten/Anmerkungen:\nKleine Seen – Wanderung von ca. 8-10 km vom großen zum kleinen Wannsee über Pohlesee zum Stölpchensee .\nNach Wanderung ist eine Einkehr im Biergarten möglich. \nAnmeldung:\nDieter Bamler\nTel.: 033201-21 24 8\nE-Mail: bamler@freenet.de \n
URL:https://www.genusswanderungen.de/event/wanderung-am-wannsee-berlin/
LOCATION:Berlin Wannsee\, Kronprinzessinnenweg 250\, Berlin\, 14109\, Deutschland
CATEGORIES:Event,Wanderung
END:VEVENT
END:VCALENDAR