BEGIN:VCALENDAR
VERSION:2.0
PRODID:-//Wandern in Berlin und Potsdam - ECPv4.9.10//NONSGML v1.0//EN
CALSCALE:GREGORIAN
METHOD:PUBLISH
X-WR-CALNAME:Wandern in Berlin und Potsdam
X-ORIGINAL-URL:https://www.genusswanderungen.de
X-WR-CALDESC:Veranstaltungen im Wandern in Berlin und Potsdam
BEGIN:VTIMEZONE
TZID:Europe/Helsinki
BEGIN:DAYLIGHT
TZOFFSETFROM:+0200
TZOFFSETTO:+0300
TZNAME:EEST
DTSTART:20180325T010000
END:DAYLIGHT
BEGIN:STANDARD
TZOFFSETFROM:+0300
TZOFFSETTO:+0200
TZNAME:EET
DTSTART:20181028T010000
END:STANDARD
END:VTIMEZONE
BEGIN:VEVENT
DTSTART;VALUE=DATE:20181021
DTEND;VALUE=DATE:20181022
DTSTAMP:20260422T122209
CREATED:20180902T201319Z
LAST-MODIFIED:20180902T201319Z
UID:3482-1540080000-1540166399@www.genusswanderungen.de
SUMMARY:Wanderung durch das Katharinenholz - Eine Entdeckungstour in Potsdams Norden
DESCRIPTION:Diese geschichtsträchtige Entdeckungstour führt uns in die Natur und Kultur des weniger bekannten Potsdamer Norden. Wir unternehmen einen Abstecher in die preußische Militärgeschichte\, durchwandern das Katharinenholz mit den Düsteren Teichen und erfahren\, wo Loriots Vorfahren lebten. \n\nTermin: Sonntag\, 21.10.2018\nStart: 11.00 Uhr\, Potsdam Tramhaltestelle Johan-Bouman-Platz (Tram Richtung Kirschallee)\nStrecke: mittelschwere knapp 15 km lange Wanderung auf gut begehbaren Wegen\nVerpflegung: Rucksackverpflegung\, Schlußeinkehr nach Lust und Laune im Krongut Bornstedt möglich\nZiel: Tramhaltestelle Kirschallee (ist nur wenige hundert Meter vom Start entfernt)\n\nKosten: 10€/ Person – Anmeldung bitte >>hier \n
URL:https://www.genusswanderungen.de/event/wanderung-durch-das-katharinenholz-eine-entdeckungstour-in-potsdams-norden-3/
LOCATION:Potsdam Johan-Bouman-Platz\, Potsdam\, 14469\, Deutschland
CATEGORIES:Wanderung
ATTACH;FMTTYPE=image/jpeg:https://www.genusswanderungen.de/wp-content/uploads/2018/01/20170617_143532-e1516373341320.jpg
ORGANIZER;CN="Wanderkonzepte":MAILTO:info@wanderkonzepte.de
END:VEVENT
END:VCALENDAR