BEGIN:VCALENDAR
VERSION:2.0
PRODID:-//Wandern in Berlin und Potsdam - ECPv4.9.10//NONSGML v1.0//EN
CALSCALE:GREGORIAN
METHOD:PUBLISH
X-WR-CALNAME:Wandern in Berlin und Potsdam
X-ORIGINAL-URL:https://www.genusswanderungen.de
X-WR-CALDESC:Veranstaltungen im Wandern in Berlin und Potsdam
BEGIN:VTIMEZONE
TZID:Europe/Helsinki
BEGIN:DAYLIGHT
TZOFFSETFROM:+0200
TZOFFSETTO:+0300
TZNAME:EEST
DTSTART:20180325T010000
END:DAYLIGHT
BEGIN:STANDARD
TZOFFSETFROM:+0300
TZOFFSETTO:+0200
TZNAME:EET
DTSTART:20181028T010000
END:STANDARD
END:VTIMEZONE
BEGIN:VEVENT
DTSTART;VALUE=DATE:20180527
DTEND;VALUE=DATE:20180528
DTSTAMP:20260422T090320
CREATED:20180510T093913Z
LAST-MODIFIED:20180510T093913Z
UID:3340-1527379200-1527465599@www.genusswanderungen.de
SUMMARY:Wanderung durch die Bornimer Feldflur
DESCRIPTION:Die Wälder und Felder grünen\,\nEs trillert die Lerch in der Luft\,\nDer Frühling ist erschienen\nMit Lichtern und Farben und Duft… (Heinrich Heine) \n  \nWir wandern durch die grüne Bornimer Feldflur. Vielleicht begegnen uns hier Fuchs\, Hase und Reh. Auf alle Fälle gibt es viel frische Luft und weite Blicke. Zum Ende der Tour besuchen wir den Garten von Karl Foerster\, sammeln Ideen für das eigene Refugium zu Hause und genießen die Stille und bunte Vielfalt. \n\nTermin: 27.05.2018\nStart: 11.00 Uhr\, Potsdam Tramhaltestelle Volkspark (Biosphäre)\nStrecke: ca.14 km Rundwanderung\nVerpflegung: Rucksackverpflegung\nKosten: 10 €/Person \nAnmeldung erbeten >hier\n\n  \n
URL:https://www.genusswanderungen.de/event/wanderung-durch-die-bornimer-feldflur/
LOCATION:Potsdam Volkspark
CATEGORIES:Wanderung
ATTACH;FMTTYPE=image/jpeg:https://www.genusswanderungen.de/wp-content/uploads/2018/05/DSCF5077-e1525944878816.jpg
ORGANIZER;CN="Wanderkonzepte":MAILTO:info@wanderkonzepte.de
END:VEVENT
END:VCALENDAR